BEGIN:VCALENDAR
VERSION:2.0
PRODID:-//Contratero//ES
CALSCALE:GREGORIAN
METHOD:PUBLISH
BEGIN:VEVENT
UID:DGPEP2021003@contratero.es
DTSTAMP:20260423T201509Z
DTSTART:20210602T235959
DTEND:20210603T005959
SUMMARY:Cierre: Toma de datos para la elaboración de la Estadístic
DESCRIPTION:Toma de datos para la elaboración de la Estadística de obras en edificación\\n\\nOrganismo: Dirección General de Programación Económica y Presupuestos\\n\\nVer en Contratero: https://contratero.es/contracts/DGPEP2021003
URL:https://contratero.es/contracts/DGPEP2021003
STATUS:CONFIRMED
BEGIN:VALARM
TRIGGER:-P1D
ACTION:DISPLAY
DESCRIPTION:Recordatorio: Toma de datos para la elaborac
END:VALARM
END:VEVENT
END:VCALENDAR