BEGIN:VCALENDAR
VERSION:2.0
PRODID:-//Contratero//ES
CALSCALE:GREGORIAN
METHOD:PUBLISH
BEGIN:VEVENT
UID:DIC-271/2021@contratero.es
DTSTAMP:20260423T231009Z
DTSTART:20210625T235959
DTEND:20210626T005959
SUMMARY:Cierre: Encargo M.P. Soporte Funcional Del Sistema Para El
DESCRIPTION:Encargo M.P. Soporte Funcional Del Sistema Para El Control Y Análisis De Ventas E Ingresos Comerciales (Savia/Cico)\\n\\nOrganismo: Aena. Dirección de Contratación\\n\\nVer en Contratero: https://contratero.es/contracts/DIC-271/2021
URL:https://contratero.es/contracts/DIC-271/2021
STATUS:CONFIRMED
BEGIN:VALARM
TRIGGER:-P1D
ACTION:DISPLAY
DESCRIPTION:Recordatorio: Encargo M.P. Soporte Funcional
END:VALARM
END:VEVENT
END:VCALENDAR