BEGIN:VCALENDAR
VERSION:2.0
PRODID:-//Contratero//ES
CALSCALE:GREGORIAN
METHOD:PUBLISH
BEGIN:VEVENT
UID:DIE-350/2024@contratero.es
DTSTAMP:20260421T122451Z
DTSTART:20280912T235959
DTEND:20280913T005959
SUMMARY:Cierre: Sistema Dinámico De Adquisición Para Servicios De 
DESCRIPTION:Sistema Dinámico De Adquisición Para Servicios De Innovación Para Aena Sme\, S.A\\n\\nOrganismo: Aena. Dirección de Contratación\\n\\nVer en Contratero: https://contratero.es/contracts/DIE-350/2024
URL:https://contratero.es/contracts/DIE-350/2024
STATUS:CONFIRMED
BEGIN:VALARM
TRIGGER:-P1D
ACTION:DISPLAY
DESCRIPTION:Recordatorio: Sistema Dinámico De Adquisició
END:VALARM
END:VEVENT
END:VCALENDAR