BEGIN:VCALENDAR
VERSION:2.0
PRODID:-//Contratero//ES
CALSCALE:GREGORIAN
METHOD:PUBLISH
BEGIN:VEVENT
UID:DPCR2023/37271@contratero.es
DTSTAMP:20260422T133149Z
DTSTART:20230627T235959
DTEND:20230628T005959
SUMMARY:Cierre: Servicio de mantenimiento del software Smartelia d
DESCRIPTION:Servicio de mantenimiento del software Smartelia de monitorización de instalaciones fotovoltaicas\\n\\nOrganismo: Presidencia de la Diputación Provincial de Ciudad Real\\n\\nVer en Contratero: https://contratero.es/contracts/DPCR2023/37271
URL:https://contratero.es/contracts/DPCR2023/37271
STATUS:CONFIRMED
BEGIN:VALARM
TRIGGER:-P1D
ACTION:DISPLAY
DESCRIPTION:Recordatorio: Servicio de mantenimiento del 
END:VALARM
END:VEVENT
END:VCALENDAR