BEGIN:VCALENDAR
VERSION:2.0
PRODID:-//Contratero//ES
CALSCALE:GREGORIAN
METHOD:PUBLISH
BEGIN:VEVENT
UID:DPCR2026/5588@contratero.es
DTSTAMP:20260420T152821Z
DTSTART:20260219T235959
DTEND:20260220T005959
SUMMARY:Cierre: Suministro Suscripciones Licencias Zyxel Nebula 3 
DESCRIPTION:Suministro Suscripciones Licencias Zyxel Nebula 3 años\\n\\nOrganismo: Presidencia de la Diputación Provincial de Ciudad Real\\n\\nVer en Contratero: https://contratero.es/contracts/DPCR2026/5588
URL:https://contratero.es/contracts/DPCR2026/5588
STATUS:CONFIRMED
BEGIN:VALARM
TRIGGER:-P1D
ACTION:DISPLAY
DESCRIPTION:Recordatorio: Suministro Suscripciones Licen
END:VALARM
END:VEVENT
END:VCALENDAR