BEGIN:VCALENDAR
VERSION:2.0
PRODID:-//Contratero//ES
CALSCALE:GREGORIAN
METHOD:PUBLISH
BEGIN:VEVENT
UID:DPM-684/2022@contratero.es
DTSTAMP:20260421T094338Z
DTSTART:20230516T235959
DTEND:20230517T005959
SUMMARY:Cierre: Mantenimiento de Licencias del Software AviPLAN Ai
DESCRIPTION:Mantenimiento de Licencias del Software AviPLAN Airside Pro y Aircraft Data Viewer (2023-2027)\\n\\nOrganismo: Aena. Dirección de Contratación\\n\\nVer en Contratero: https://contratero.es/contracts/DPM-684/2022
URL:https://contratero.es/contracts/DPM-684/2022
STATUS:CONFIRMED
BEGIN:VALARM
TRIGGER:-P1D
ACTION:DISPLAY
DESCRIPTION:Recordatorio: Mantenimiento de Licencias del
END:VALARM
END:VEVENT
END:VCALENDAR