BEGIN:VCALENDAR
VERSION:2.0
PRODID:-//Contratero//ES
CALSCALE:GREGORIAN
METHOD:PUBLISH
BEGIN:VEVENT
UID:DTC-158/2025@contratero.es
DTSTAMP:20260421T202030Z
DTSTART:20250604T235959
DTEND:20250605T005959
SUMMARY:Cierre: Servicio De Control Y Vigilancia De Ejecución De C
DESCRIPTION:Servicio De Control Y Vigilancia De Ejecución De Cambio De Direccionamiento De Red Y Equipos De Aena\\n\\nOrganismo: Aena. Dirección de Contratación\\n\\nVer en Contratero: https://contratero.es/contracts/DTC-158/2025
URL:https://contratero.es/contracts/DTC-158/2025
STATUS:CONFIRMED
BEGIN:VALARM
TRIGGER:-P1D
ACTION:DISPLAY
DESCRIPTION:Recordatorio: Servicio De Control Y Vigilanc
END:VALARM
END:VEVENT
END:VCALENDAR