BEGIN:VCALENDAR
VERSION:2.0
PRODID:-//Contratero//ES
CALSCALE:GREGORIAN
METHOD:PUBLISH
BEGIN:VEVENT
UID:DTC-287/2023@contratero.es
DTSTAMP:20260422T160944Z
DTSTART:20230908T235959
DTEND:20230909T005959
SUMMARY:Cierre: Adquisición\, Actualización Y Soporte De Firewall D
DESCRIPTION:Adquisición\, Actualización Y Soporte De Firewall De Aena\\n\\nOrganismo: Aena. Presidencia. Consejero Delegado\\n\\nVer en Contratero: https://contratero.es/contracts/DTC-287/2023
URL:https://contratero.es/contracts/DTC-287/2023
STATUS:CONFIRMED
BEGIN:VALARM
TRIGGER:-P1D
ACTION:DISPLAY
DESCRIPTION:Recordatorio: Adquisición\, Actualización Y S
END:VALARM
END:VEVENT
END:VCALENDAR