BEGIN:VCALENDAR
VERSION:2.0
PRODID:-//Contratero//ES
CALSCALE:GREGORIAN
METHOD:PUBLISH
BEGIN:VEVENT
UID:DTC-310/2019@contratero.es
DTSTAMP:20260425T041557Z
DTSTART:20190719T235959
DTEND:20190720T005959
SUMMARY:Cierre: Adquisición\, Actualizacion Y Soporte Licencias Mic
DESCRIPTION:Adquisición\, Actualizacion Y Soporte Licencias Microsoft\\n\\nOrganismo: Aena. Consejo de Administración\\n\\nVer en Contratero: https://contratero.es/contracts/DTC-310/2019
URL:https://contratero.es/contracts/DTC-310/2019
STATUS:CONFIRMED
BEGIN:VALARM
TRIGGER:-P1D
ACTION:DISPLAY
DESCRIPTION:Recordatorio: Adquisición\, Actualizacion Y S
END:VALARM
END:VEVENT
END:VCALENDAR