BEGIN:VCALENDAR
VERSION:2.0
PRODID:-//Contratero//ES
CALSCALE:GREGORIAN
METHOD:PUBLISH
BEGIN:VEVENT
UID:DTC-320/2020@contratero.es
DTSTAMP:20260423T093317Z
DTSTART:20201005T235959
DTEND:20201006T005959
SUMMARY:Cierre: Renovación Del Sistema De Megafonía En El Aeropuer
DESCRIPTION:Renovación Del Sistema De Megafonía En El Aeropuerto De Malaga-Costa Del Sol\\n\\nOrganismo: Aena. Dirección de Contratación\\n\\nVer en Contratero: https://contratero.es/contracts/DTC-320/2020
URL:https://contratero.es/contracts/DTC-320/2020
STATUS:CONFIRMED
BEGIN:VALARM
TRIGGER:-P1D
ACTION:DISPLAY
DESCRIPTION:Recordatorio: Renovación Del Sistema De Mega
END:VALARM
END:VEVENT
END:VCALENDAR