BEGIN:VCALENDAR
VERSION:2.0
PRODID:-//Contratero//ES
CALSCALE:GREGORIAN
METHOD:PUBLISH
BEGIN:VEVENT
UID:DTC-389/2024@contratero.es
DTSTAMP:20260421T072144Z
DTSTART:20250225T235959
DTEND:20250226T005959
SUMMARY:Cierre: Acuerdo Marco Para El Suministro E Instalación De 
DESCRIPTION:Acuerdo Marco Para El Suministro E Instalación De Equipamiento Sipa 2025-2028\\n\\nOrganismo: Aena. Consejo de Administración\\n\\nVer en Contratero: https://contratero.es/contracts/DTC-389/2024
URL:https://contratero.es/contracts/DTC-389/2024
STATUS:CONFIRMED
BEGIN:VALARM
TRIGGER:-P1D
ACTION:DISPLAY
DESCRIPTION:Recordatorio: Acuerdo Marco Para El Suminist
END:VALARM
END:VEVENT
END:VCALENDAR