BEGIN:VCALENDAR
VERSION:2.0
PRODID:-//Contratero//ES
CALSCALE:GREGORIAN
METHOD:PUBLISH
BEGIN:VEVENT
UID:DTC-396/2024@contratero.es
DTSTAMP:20260421T234400Z
DTSTART:20241028T235959
DTEND:20241029T005959
SUMMARY:Cierre: Suministro Y Actualización De Soluciones De Seguri
DESCRIPTION:Suministro Y Actualización De Soluciones De Seguridad Trellix En Aena\\n\\nOrganismo: Aena. Dirección de Contratación\\n\\nVer en Contratero: https://contratero.es/contracts/DTC-396/2024
URL:https://contratero.es/contracts/DTC-396/2024
STATUS:CONFIRMED
BEGIN:VALARM
TRIGGER:-P1D
ACTION:DISPLAY
DESCRIPTION:Recordatorio: Suministro Y Actualización De 
END:VALARM
END:VEVENT
END:VCALENDAR