BEGIN:VCALENDAR
VERSION:2.0
PRODID:-//Contratero//ES
CALSCALE:GREGORIAN
METHOD:PUBLISH
BEGIN:VEVENT
UID:DTC-401/2022@contratero.es
DTSTAMP:20260420T155432Z
DTSTART:20221114T235959
DTEND:20221115T005959
SUMMARY:Cierre: Servicios De Apoyo Para Campañas De Mailing Masivo
DESCRIPTION:Servicios De Apoyo Para Campañas De Mailing Masivo 2022-2023\\n\\nOrganismo: Aena. Dirección de Contratación\\n\\nVer en Contratero: https://contratero.es/contracts/DTC-401/2022
URL:https://contratero.es/contracts/DTC-401/2022
STATUS:CONFIRMED
BEGIN:VALARM
TRIGGER:-P1D
ACTION:DISPLAY
DESCRIPTION:Recordatorio: Servicios De Apoyo Para Campañ
END:VALARM
END:VEVENT
END:VCALENDAR