BEGIN:VCALENDAR
VERSION:2.0
PRODID:-//Contratero//ES
CALSCALE:GREGORIAN
METHOD:PUBLISH
BEGIN:VEVENT
UID:DTC-45/2024@contratero.es
DTSTAMP:20260422T130622Z
DTSTART:20240403T235959
DTEND:20240404T005959
SUMMARY:Cierre: Actualización Y Ampliación De Licencias Confluent 
DESCRIPTION:Actualización Y Ampliación De Licencias Confluent En Aena\\n\\nOrganismo: Aena. Dirección de Contratación\\n\\nVer en Contratero: https://contratero.es/contracts/DTC-45/2024
URL:https://contratero.es/contracts/DTC-45/2024
STATUS:CONFIRMED
BEGIN:VALARM
TRIGGER:-P1D
ACTION:DISPLAY
DESCRIPTION:Recordatorio: Actualización Y Ampliación De 
END:VALARM
END:VEVENT
END:VCALENDAR