BEGIN:VCALENDAR
VERSION:2.0
PRODID:-//Contratero//ES
CALSCALE:GREGORIAN
METHOD:PUBLISH
BEGIN:VEVENT
UID:DTC-546/2023@contratero.es
DTSTAMP:20260422T012833Z
DTSTART:20280115T235959
DTEND:20280116T005959
SUMMARY:Cierre: Sistema Dinámico De Adquisición Para Suministros Y
DESCRIPTION:Sistema Dinámico De Adquisición Para Suministros Y Soluciones De Ciberseguridad\\n\\nOrganismo: Aena. Presidencia. Consejero Delegado\\n\\nVer en Contratero: https://contratero.es/contracts/DTC-546/2023
URL:https://contratero.es/contracts/DTC-546/2023
STATUS:CONFIRMED
BEGIN:VALARM
TRIGGER:-P1D
ACTION:DISPLAY
DESCRIPTION:Recordatorio: Sistema Dinámico De Adquisició
END:VALARM
END:VEVENT
END:VCALENDAR