BEGIN:VCALENDAR
VERSION:2.0
PRODID:-//Contratero//ES
CALSCALE:GREGORIAN
METHOD:PUBLISH
BEGIN:VEVENT
UID:DTC-681/2018@contratero.es
DTSTAMP:20260423T080941Z
DTSTART:20171228T235959
DTEND:20171229T005959
SUMMARY:Cierre: Asistencia Técnica De Proyectos De Comunicaciones 
DESCRIPTION:Asistencia Técnica De Proyectos De Comunicaciones Y Sistemas.\\n\\nOrganismo: Aena. Dirección de Contratación\\n\\nVer en Contratero: https://contratero.es/contracts/DTC-681/2018
URL:https://contratero.es/contracts/DTC-681/2018
STATUS:CONFIRMED
BEGIN:VALARM
TRIGGER:-P1D
ACTION:DISPLAY
DESCRIPTION:Recordatorio: Asistencia Técnica De Proyecto
END:VALARM
END:VEVENT
END:VCALENDAR