BEGIN:VCALENDAR
VERSION:2.0
PRODID:-//Contratero//ES
CALSCALE:GREGORIAN
METHOD:PUBLISH
BEGIN:VEVENT
UID:E-CON-2023-8@contratero.es
DTSTAMP:20260423T184954Z
DTSTART:20230508T235959
DTEND:20230509T005959
SUMMARY:Cierre: Mantenimiento y Soporte de la licencia de uso de A
DESCRIPTION:Mantenimiento y Soporte de la licencia de uso de Alfresco Content Services (ACS)\\n\\nOrganismo: Rectorado de la Universidad de Murcia\\n\\nVer en Contratero: https://contratero.es/contracts/E-CON-2023-8
URL:https://contratero.es/contracts/E-CON-2023-8
STATUS:CONFIRMED
BEGIN:VALARM
TRIGGER:-P1D
ACTION:DISPLAY
DESCRIPTION:Recordatorio: Mantenimiento y Soporte de la 
END:VALARM
END:VEVENT
END:VCALENDAR