BEGIN:VCALENDAR
VERSION:2.0
PRODID:-//Contratero//ES
CALSCALE:GREGORIAN
METHOD:PUBLISH
BEGIN:VEVENT
UID:E/004/17@contratero.es
DTSTAMP:20260420T082227Z
DTSTART:20170418T235959
DTEND:20170419T005959
SUMMARY:Cierre: Contratación de una plataforma para la gestión de 
DESCRIPTION:Contratación de una plataforma para la gestión de acciones de comunicación del gabinete de prensa.\\n\\nOrganismo: Presidencia del Organismo Público Puertos del Estado\\n\\nVer en Contratero: https://contratero.es/contracts/E/004/17
URL:https://contratero.es/contracts/E/004/17
STATUS:CONFIRMED
BEGIN:VALARM
TRIGGER:-P1D
ACTION:DISPLAY
DESCRIPTION:Recordatorio: Contratación de una plataforma
END:VALARM
END:VEVENT
END:VCALENDAR