BEGIN:VCALENDAR
VERSION:2.0
PRODID:-//Contratero//ES
CALSCALE:GREGORIAN
METHOD:PUBLISH
BEGIN:VEVENT
UID:E/027/23@contratero.es
DTSTAMP:20260419T164037Z
DTSTART:20231221T235959
DTEND:20231222T005959
SUMMARY:Cierre: Servicios de mantenimiento del sistema MEGAPORT en
DESCRIPTION:Servicios de mantenimiento del sistema MEGAPORT en diferentes Autoridades Portuarias (ANUNCIO PREVIO 27/23)\\n\\nOrganismo: Presidencia del Organismo Público Puertos del Estado\\n\\nVer en Contratero: https://contratero.es/contracts/E/027/23
URL:https://contratero.es/contracts/E/027/23
STATUS:CONFIRMED
BEGIN:VALARM
TRIGGER:-P1D
ACTION:DISPLAY
DESCRIPTION:Recordatorio: Servicios de mantenimiento del
END:VALARM
END:VEVENT
END:VCALENDAR