BEGIN:VCALENDAR
VERSION:2.0
PRODID:-//Contratero//ES
CALSCALE:GREGORIAN
METHOD:PUBLISH
BEGIN:VEVENT
UID:E/031/23@contratero.es
DTSTAMP:20260420T032400Z
DTSTART:20231108T235959
DTEND:20231109T005959
SUMMARY:Cierre: Servidor de mapas para aplicaciones de Puertos del
DESCRIPTION:Servidor de mapas para aplicaciones de Puertos del Estado\\n\\nOrganismo: Presidencia del Organismo Público Puertos del Estado\\n\\nVer en Contratero: https://contratero.es/contracts/E/031/23
URL:https://contratero.es/contracts/E/031/23
STATUS:CONFIRMED
BEGIN:VALARM
TRIGGER:-P1D
ACTION:DISPLAY
DESCRIPTION:Recordatorio: Servidor de mapas para aplicac
END:VALARM
END:VEVENT
END:VCALENDAR