BEGIN:VCALENDAR
VERSION:2.0
PRODID:-//Contratero//ES
CALSCALE:GREGORIAN
METHOD:PUBLISH
BEGIN:VEVENT
UID:E/061/25@contratero.es
DTSTAMP:20260423T053948Z
DTSTART:20251215T235959
DTEND:20251216T005959
SUMMARY:Cierre: Servicios de mantenimiento de la plataforma Portal
DESCRIPTION:Servicios de mantenimiento de la plataforma Portal AtoN de gestión integral del Área de Ayudas a la Navegación Marítima\\n\\nOrganismo: Presidencia del Organismo Público Puertos del Estado\\n\\nVer en Contratero: https://contratero.es/contracts/E/061/25
URL:https://contratero.es/contracts/E/061/25
STATUS:CONFIRMED
BEGIN:VALARM
TRIGGER:-P1D
ACTION:DISPLAY
DESCRIPTION:Recordatorio: Servicios de mantenimiento de 
END:VALARM
END:VEVENT
END:VCALENDAR