BEGIN:VCALENDAR
VERSION:2.0
PRODID:-//Contratero//ES
CALSCALE:GREGORIAN
METHOD:PUBLISH
BEGIN:VEVENT
UID:E146/2026@contratero.es
DTSTAMP:20260419T224810Z
DTSTART:20260409T235959
DTEND:20260410T005959
SUMMARY:Cierre: Servicio de licencias de software\, dominios web\, c
DESCRIPTION:Servicio de licencias de software\, dominios web\, certificados SSL\, cuentas de correo profesionales y migración desde servidores dedicados a nuevos servidores dedicados\, además del alojamiento en dicho...\\n\\nOrganismo: Consejo de Administración de Animajoven SAU\\n\\nVer en Contratero: https://contratero.es/contracts/E146/2026
URL:https://contratero.es/contracts/E146/2026
STATUS:CONFIRMED
BEGIN:VALARM
TRIGGER:-P1D
ACTION:DISPLAY
DESCRIPTION:Recordatorio: Servicio de licencias de softw
END:VALARM
END:VEVENT
END:VCALENDAR