BEGIN:VCALENDAR
VERSION:2.0
PRODID:-//Contratero//ES
CALSCALE:GREGORIAN
METHOD:PUBLISH
BEGIN:VEVENT
UID:E19-0039@contratero.es
DTSTAMP:20260421T191857Z
DTSTART:20190429T235959
DTEND:20190430T005959
SUMMARY:Cierre: Contrato de Servicios: Renovación de los dominios 
DESCRIPTION:Contrato de Servicios: Renovación de los dominios de internet de la Autoridad Portuaria de Baleares\\n\\nOrganismo: Presidencia de la Autoridad Portuaria de Baleares\\n\\nVer en Contratero: https://contratero.es/contracts/E19-0039
URL:https://contratero.es/contracts/E19-0039
STATUS:CONFIRMED
BEGIN:VALARM
TRIGGER:-P1D
ACTION:DISPLAY
DESCRIPTION:Recordatorio: Contrato de Servicios: Renovac
END:VALARM
END:VEVENT
END:VCALENDAR