BEGIN:VCALENDAR
VERSION:2.0
PRODID:-//Contratero//ES
CALSCALE:GREGORIAN
METHOD:PUBLISH
BEGIN:VEVENT
UID:E2024013178@contratero.es
DTSTAMP:20260423T053939Z
DTSTART:20241126T235959
DTEND:20241127T005959
SUMMARY:Cierre: Suministro de licencia de uso de aplicación inform
DESCRIPTION:Suministro de licencia de uso de aplicación informática para la elaboración y corrección de los cuestionarios tipo test del Cabildo Insular de Tenerife\, basado en el Acuerdo marco del Cabildo para la ...\\n\\nOrganismo: Consejería Insular del Área de Presidencia\, Administración y Servicios Públicos\, Planificación Territorial y Patrimonio Histórico del Cabildo Insular de Tenerife\\n\\nVer en Contratero: https://contratero.es/contracts/E2024013178
URL:https://contratero.es/contracts/E2024013178
STATUS:CONFIRMED
BEGIN:VALARM
TRIGGER:-P1D
ACTION:DISPLAY
DESCRIPTION:Recordatorio: Suministro de licencia de uso 
END:VALARM
END:VEVENT
END:VCALENDAR