BEGIN:VCALENDAR
VERSION:2.0
PRODID:-//Contratero//ES
CALSCALE:GREGORIAN
METHOD:PUBLISH
BEGIN:VEVENT
UID:E24-0089@contratero.es
DTSTAMP:20260420T223644Z
DTSTART:20241010T235959
DTEND:20241011T005959
SUMMARY:Cierre: Servicio de Escucha Activa (EA) en Internet para l
DESCRIPTION:Servicio de Escucha Activa (EA) en Internet para la Autoridad Portuaria de Baleares\\n\\nOrganismo: Presidencia de la Autoridad Portuaria de Baleares\\n\\nVer en Contratero: https://contratero.es/contracts/E24-0089
URL:https://contratero.es/contracts/E24-0089
STATUS:CONFIRMED
BEGIN:VALARM
TRIGGER:-P1D
ACTION:DISPLAY
DESCRIPTION:Recordatorio: Servicio de Escucha Activa (EA
END:VALARM
END:VEVENT
END:VCALENDAR