BEGIN:VCALENDAR
VERSION:2.0
PRODID:-//Contratero//ES
CALSCALE:GREGORIAN
METHOD:PUBLISH
BEGIN:VEVENT
UID:E700082026000005@contratero.es
DTSTAMP:20260419T233612Z
DTSTART:20260328T235959
DTEND:20260329T005959
SUMMARY:Cierre: Suministro de cesión del derecho de uso de un soft
DESCRIPTION:Suministro de cesión del derecho de uso de un software de Plataforma de Inscripción On-line (PIO) y servicio de mantenimiento\, soporte técnico y formación del mismo para el Organismo Autónomo Municipa...\\n\\nOrganismo: Presidencia de la Universidad Popular del Ayuntamiento de Valencia\\n\\nVer en Contratero: https://contratero.es/contracts/E700082026000005
URL:https://contratero.es/contracts/E700082026000005
STATUS:CONFIRMED
BEGIN:VALARM
TRIGGER:-P1D
ACTION:DISPLAY
DESCRIPTION:Recordatorio: Suministro de cesión del derec
END:VALARM
END:VEVENT
END:VCALENDAR