BEGIN:VCALENDAR
VERSION:2.0
PRODID:-//Contratero//ES
CALSCALE:GREGORIAN
METHOD:PUBLISH
BEGIN:VEVENT
UID:EC21-C05-09490@contratero.es
DTSTAMP:20260424T001516Z
DTSTART:20211102T235959
DTEND:20211103T005959
SUMMARY:Cierre: Soporte a la operación de TI y Mantenimiento de Ap
DESCRIPTION:Soporte a la operación de TI y Mantenimiento de Aplicaciones de desarrollo propio 2022\\n\\nOrganismo: Presidencia de la Autoridad Portuaria de Valencia\\n\\nVer en Contratero: https://contratero.es/contracts/EC21-C05-09490
URL:https://contratero.es/contracts/EC21-C05-09490
STATUS:CONFIRMED
BEGIN:VALARM
TRIGGER:-P1D
ACTION:DISPLAY
DESCRIPTION:Recordatorio: Soporte a la operación de TI y
END:VALARM
END:VEVENT
END:VCALENDAR