BEGIN:VCALENDAR
VERSION:2.0
PRODID:-//Contratero//ES
CALSCALE:GREGORIAN
METHOD:PUBLISH
BEGIN:VEVENT
UID:EC22-C05-09780@contratero.es
DTSTAMP:20260423T113630Z
DTSTART:20230327T235959
DTEND:20230328T005959
SUMMARY:Cierre: Desarrollo e implantación de la nueva arquitectura
DESCRIPTION:Desarrollo e implantación de la nueva arquitectura de ValenciaportPCS y evolución de los productos de Transporte Terrestre y Aduanas.\\n\\nOrganismo: Presidencia de la Autoridad Portuaria de Valencia\\n\\nVer en Contratero: https://contratero.es/contracts/EC22-C05-09780
URL:https://contratero.es/contracts/EC22-C05-09780
STATUS:CONFIRMED
BEGIN:VALARM
TRIGGER:-P1D
ACTION:DISPLAY
DESCRIPTION:Recordatorio: Desarrollo e implantación de l
END:VALARM
END:VEVENT
END:VCALENDAR