BEGIN:VCALENDAR
VERSION:2.0
PRODID:-//Contratero//ES
CALSCALE:GREGORIAN
METHOD:PUBLISH
BEGIN:VEVENT
UID:EC22-C05-11120@contratero.es
DTSTAMP:20260423T212311Z
DTSTART:20230206T235959
DTEND:20230207T005959
SUMMARY:Cierre: Provisión\, adaptación e implantación del nuevo ERP
DESCRIPTION:Provisión\, adaptación e implantación del nuevo ERP de la APV\\n\\nOrganismo: Presidencia de la Autoridad Portuaria de Valencia\\n\\nVer en Contratero: https://contratero.es/contracts/EC22-C05-11120
URL:https://contratero.es/contracts/EC22-C05-11120
STATUS:CONFIRMED
BEGIN:VALARM
TRIGGER:-P1D
ACTION:DISPLAY
DESCRIPTION:Recordatorio: Provisión\, adaptación e implan
END:VALARM
END:VEVENT
END:VCALENDAR