BEGIN:VCALENDAR
VERSION:2.0
PRODID:-//Contratero//ES
CALSCALE:GREGORIAN
METHOD:PUBLISH
BEGIN:VEVENT
UID:EC23-C13-00040@contratero.es
DTSTAMP:20260421T193753Z
DTSTART:20230508T235959
DTEND:20230509T005959
SUMMARY:Cierre: Canal ético de la Autoridad Portuaria de Valencia
DESCRIPTION:Canal ético de la Autoridad Portuaria de Valencia\\n\\nOrganismo: Presidencia de la Autoridad Portuaria de Valencia\\n\\nVer en Contratero: https://contratero.es/contracts/EC23-C13-00040
URL:https://contratero.es/contracts/EC23-C13-00040
STATUS:CONFIRMED
BEGIN:VALARM
TRIGGER:-P1D
ACTION:DISPLAY
DESCRIPTION:Recordatorio: Canal ético de la Autoridad Po
END:VALARM
END:VEVENT
END:VCALENDAR