BEGIN:VCALENDAR
VERSION:2.0
PRODID:-//Contratero//ES
CALSCALE:GREGORIAN
METHOD:PUBLISH
BEGIN:VEVENT
UID:EC23-C14-05410@contratero.es
DTSTAMP:20260420T213809Z
DTSTART:20240318T235959
DTEND:20240319T005959
SUMMARY:Cierre: Servicio de alojamiento\, mantenimiento\, consultorí
DESCRIPTION:Servicio de alojamiento\, mantenimiento\, consultoría y soporte técnico del Portal de Trasparencia de la APV\\n\\nOrganismo: Presidencia de la Autoridad Portuaria de Valencia\\n\\nVer en Contratero: https://contratero.es/contracts/EC23-C14-05410
URL:https://contratero.es/contracts/EC23-C14-05410
STATUS:CONFIRMED
BEGIN:VALARM
TRIGGER:-P1D
ACTION:DISPLAY
DESCRIPTION:Recordatorio: Servicio de alojamiento\, mante
END:VALARM
END:VEVENT
END:VCALENDAR