BEGIN:VCALENDAR
VERSION:2.0
PRODID:-//Contratero//ES
CALSCALE:GREGORIAN
METHOD:PUBLISH
BEGIN:VEVENT
UID:EC24-C05-05770@contratero.es
DTSTAMP:20260420T090521Z
DTSTART:20241209T235959
DTEND:20241210T005959
SUMMARY:Cierre: Desarrollo de Aplicaciones
DESCRIPTION:Desarrollo de Aplicaciones\\n\\nOrganismo: Presidencia de la Autoridad Portuaria de Valencia\\n\\nVer en Contratero: https://contratero.es/contracts/EC24-C05-05770
URL:https://contratero.es/contracts/EC24-C05-05770
STATUS:CONFIRMED
BEGIN:VALARM
TRIGGER:-P1D
ACTION:DISPLAY
DESCRIPTION:Recordatorio: Desarrollo de Aplicaciones
END:VALARM
END:VEVENT
END:VCALENDAR