BEGIN:VCALENDAR
VERSION:2.0
PRODID:-//Contratero//ES
CALSCALE:GREGORIAN
METHOD:PUBLISH
BEGIN:VEVENT
UID:EC25-C02-05500@contratero.es
DTSTAMP:20260422T185841Z
DTSTART:20260216T235959
DTEND:20260217T005959
SUMMARY:Cierre: Asistencia técnica para la gestión y el desarrollo
DESCRIPTION:Asistencia técnica para la gestión y el desarrollo de la herramienta GIS implantada en la APV\\n\\nOrganismo: Presidencia de la Autoridad Portuaria de Valencia\\n\\nVer en Contratero: https://contratero.es/contracts/EC25-C02-05500
URL:https://contratero.es/contracts/EC25-C02-05500
STATUS:CONFIRMED
BEGIN:VALARM
TRIGGER:-P1D
ACTION:DISPLAY
DESCRIPTION:Recordatorio: Asistencia técnica para la ges
END:VALARM
END:VEVENT
END:VCALENDAR