BEGIN:VCALENDAR
VERSION:2.0
PRODID:-//Contratero//ES
CALSCALE:GREGORIAN
METHOD:PUBLISH
BEGIN:VEVENT
UID:EC25-C05-00200@contratero.es
DTSTAMP:20260421T022213Z
DTSTART:20250508T235959
DTEND:20250509T005959
SUMMARY:Cierre: Adquisición y mantenimiento de licencias Microsoft
DESCRIPTION:Adquisición y mantenimiento de licencias Microsoft 2025-2028.\\n\\nOrganismo: Presidencia de la Autoridad Portuaria de Valencia\\n\\nVer en Contratero: https://contratero.es/contracts/EC25-C05-00200
URL:https://contratero.es/contracts/EC25-C05-00200
STATUS:CONFIRMED
BEGIN:VALARM
TRIGGER:-P1D
ACTION:DISPLAY
DESCRIPTION:Recordatorio: Adquisición y mantenimiento de
END:VALARM
END:VEVENT
END:VCALENDAR