BEGIN:VCALENDAR
VERSION:2.0
PRODID:-//Contratero//ES
CALSCALE:GREGORIAN
METHOD:PUBLISH
BEGIN:VEVENT
UID:EC25-C05-01930@contratero.es
DTSTAMP:20260422T170436Z
DTSTART:20250616T235959
DTEND:20250617T005959
SUMMARY:Cierre: Desarrollo de Aplicaciones: Integraciones
DESCRIPTION:Desarrollo de Aplicaciones: Integraciones\\n\\nOrganismo: Presidencia de la Autoridad Portuaria de Valencia\\n\\nVer en Contratero: https://contratero.es/contracts/EC25-C05-01930
URL:https://contratero.es/contracts/EC25-C05-01930
STATUS:CONFIRMED
BEGIN:VALARM
TRIGGER:-P1D
ACTION:DISPLAY
DESCRIPTION:Recordatorio: Desarrollo de Aplicaciones: In
END:VALARM
END:VEVENT
END:VCALENDAR