BEGIN:VCALENDAR
VERSION:2.0
PRODID:-//Contratero//ES
CALSCALE:GREGORIAN
METHOD:PUBLISH
BEGIN:VEVENT
UID:EC25-C05-04150@contratero.es
DTSTAMP:20260420T140743Z
DTSTART:20260211T235959
DTEND:20260212T005959
SUMMARY:Cierre: Actualización y mantenimiento de licencias de Tera
DESCRIPTION:Actualización y mantenimiento de licencias de Teradata\\n\\nOrganismo: Presidencia de la Autoridad Portuaria de Valencia\\n\\nVer en Contratero: https://contratero.es/contracts/EC25-C05-04150
URL:https://contratero.es/contracts/EC25-C05-04150
STATUS:CONFIRMED
BEGIN:VALARM
TRIGGER:-P1D
ACTION:DISPLAY
DESCRIPTION:Recordatorio: Actualización y mantenimiento 
END:VALARM
END:VEVENT
END:VCALENDAR