BEGIN:VCALENDAR
VERSION:2.0
PRODID:-//Contratero//ES
CALSCALE:GREGORIAN
METHOD:PUBLISH
BEGIN:VEVENT
UID:EC25-C10-00610@contratero.es
DTSTAMP:20260421T022213Z
DTSTART:20250331T235959
DTEND:20250401T005959
SUMMARY:Cierre: Suministro de consulta de informes de clientes y p
DESCRIPTION:Suministro de consulta de informes de clientes y proveedores\\n\\nOrganismo: Presidencia de la Autoridad Portuaria de Valencia\\n\\nVer en Contratero: https://contratero.es/contracts/EC25-C10-00610
URL:https://contratero.es/contracts/EC25-C10-00610
STATUS:CONFIRMED
BEGIN:VALARM
TRIGGER:-P1D
ACTION:DISPLAY
DESCRIPTION:Recordatorio: Suministro de consulta de info
END:VALARM
END:VEVENT
END:VCALENDAR