BEGIN:VCALENDAR
VERSION:2.0
PRODID:-//Contratero//ES
CALSCALE:GREGORIAN
METHOD:PUBLISH
BEGIN:VEVENT
UID:ECM202000002@contratero.es
DTSTAMP:20260424T190342Z
DTSTART:20200911T235959
DTEND:20200912T005959
SUMMARY:Cierre: Grabación\, digitalización y archivo de documentos 
DESCRIPTION:Grabación\, digitalización y archivo de documentos tributarios.\\n\\nOrganismo: Consejera Delegada de Gestión Recaudatoria de Canarias S.A. (GRECASA)\\n\\nVer en Contratero: https://contratero.es/contracts/ECM202000002
URL:https://contratero.es/contracts/ECM202000002
STATUS:CONFIRMED
BEGIN:VALARM
TRIGGER:-P1D
ACTION:DISPLAY
DESCRIPTION:Recordatorio: Grabación\, digitalización y ar
END:VALARM
END:VEVENT
END:VCALENDAR