BEGIN:VCALENDAR
VERSION:2.0
PRODID:-//Contratero//ES
CALSCALE:GREGORIAN
METHOD:PUBLISH
BEGIN:VEVENT
UID:EDUSI221/SE-01-2022@contratero.es
DTSTAMP:20260420T123555Z
DTSTART:20230227T235959
DTEND:20230228T005959
SUMMARY:Cierre: Servicio de diseño y desarrollo aplicación web esp
DESCRIPTION:Servicio de diseño y desarrollo aplicación web específica para servicios turísticos y comercios locales de Palma del Río\, incluido en la EDUSI Palma del Río … la ciudad que avanza\, cofinanciado por la...\\n\\nOrganismo: Alcaldia del Ayuntamiento de Palma del Río\\n\\nVer en Contratero: https://contratero.es/contracts/EDUSI221/SE-01-2022
URL:https://contratero.es/contracts/EDUSI221/SE-01-2022
STATUS:CONFIRMED
BEGIN:VALARM
TRIGGER:-P1D
ACTION:DISPLAY
DESCRIPTION:Recordatorio: Servicio de diseño y desarroll
END:VALARM
END:VEVENT
END:VCALENDAR