BEGIN:VCALENDAR
VERSION:2.0
PRODID:-//Contratero//ES
CALSCALE:GREGORIAN
METHOD:PUBLISH
BEGIN:VEVENT
UID:EMVI/2023/0094/01@contratero.es
DTSTAMP:20260425T032828Z
DTSTART:20231110T235959
DTEND:20231111T005959
SUMMARY:Cierre: Alquiler\, mantenimiento y soporte de siete licenci
DESCRIPTION:Alquiler\, mantenimiento y soporte de siete licencias del software ServiceDesk Plus Multi-Language Professional\\n\\nOrganismo: Gerencia de la Empresa Municipal de la Vivienda\, Suelo y Equipamiento de Sevilla S.A. (EMVISESA)\\n\\nVer en Contratero: https://contratero.es/contracts/EMVI/2023/0094/01
URL:https://contratero.es/contracts/EMVI/2023/0094/01
STATUS:CONFIRMED
BEGIN:VALARM
TRIGGER:-P1D
ACTION:DISPLAY
DESCRIPTION:Recordatorio: Alquiler\, mantenimiento y sopo
END:VALARM
END:VEVENT
END:VCALENDAR