BEGIN:VCALENDAR
VERSION:2.0
PRODID:-//Contratero//ES
CALSCALE:GREGORIAN
METHOD:PUBLISH
BEGIN:VEVENT
UID:EMVI/2025/0102/01@contratero.es
DTSTAMP:20260423T103324Z
DTSTART:20251215T235959
DTEND:20251216T005959
SUMMARY:Cierre: El objeto del contrato es la actualización de las 
DESCRIPTION:El objeto del contrato es la actualización de las licencias y software de Comunicación Bancaria para el departamento de Contabilidad y Tesorería de EMVISESA\, así como el soporte técnico y mantenimient...\\n\\nOrganismo: Gerencia de la Empresa Municipal de la Vivienda\, Suelo y Equipamiento de Sevilla S.A. (EMVISESA)\\n\\nVer en Contratero: https://contratero.es/contracts/EMVI/2025/0102/01
URL:https://contratero.es/contracts/EMVI/2025/0102/01
STATUS:CONFIRMED
BEGIN:VALARM
TRIGGER:-P1D
ACTION:DISPLAY
DESCRIPTION:Recordatorio: El objeto del contrato es la a
END:VALARM
END:VEVENT
END:VCALENDAR