BEGIN:VCALENDAR
VERSION:2.0
PRODID:-//Contratero//ES
CALSCALE:GREGORIAN
METHOD:PUBLISH
BEGIN:VEVENT
UID:EQ.07/26@contratero.es
DTSTAMP:20260421T033357Z
DTSTART:20260303T235959
DTEND:20260304T005959
SUMMARY:Cierre: Suministro de licenciamiento con soporte\, actualiz
DESCRIPTION:Suministro de licenciamiento con soporte\, actualización y mantenimiento de la solución Bullet BEST (Timetabler y Calendar) de la Universidad Pablo de Olavide\\n\\nOrganismo: Rectorado de la Universidad Pablo de Olavide\\n\\nVer en Contratero: https://contratero.es/contracts/EQ.07/26
URL:https://contratero.es/contracts/EQ.07/26
STATUS:CONFIRMED
BEGIN:VALARM
TRIGGER:-P1D
ACTION:DISPLAY
DESCRIPTION:Recordatorio: Suministro de licenciamiento c
END:VALARM
END:VEVENT
END:VCALENDAR