BEGIN:VCALENDAR
VERSION:2.0
PRODID:-//Contratero//ES
CALSCALE:GREGORIAN
METHOD:PUBLISH
BEGIN:VEVENT
UID:EX20240033@contratero.es
DTSTAMP:20260421T204440Z
DTSTART:20240621T235959
DTEND:20240622T005959
SUMMARY:Cierre: Suministro de la licencia y soporte técnico de la 
DESCRIPTION:Suministro de la licencia y soporte técnico de la solución de canal de denuncias de whistleblower software by formalize.\\n\\nOrganismo: Agencia Española de Protección de Datos\\n\\nVer en Contratero: https://contratero.es/contracts/EX20240033
URL:https://contratero.es/contracts/EX20240033
STATUS:CONFIRMED
BEGIN:VALARM
TRIGGER:-P1D
ACTION:DISPLAY
DESCRIPTION:Recordatorio: Suministro de la licencia y so
END:VALARM
END:VEVENT
END:VCALENDAR