BEGIN:VCALENDAR
VERSION:2.0
PRODID:-//Contratero//ES
CALSCALE:GREGORIAN
METHOD:PUBLISH
BEGIN:VEVENT
UID:EXP013/2026/19@contratero.es
DTSTAMP:20260420T044520Z
DTSTART:20260407T235959
DTEND:20260408T005959
SUMMARY:Cierre: Contratación administrativa de licencias Campus de
DESCRIPTION:Contratación administrativa de licencias Campus de productos de Microsoft para la Universidad de Cádiz.\\n\\nOrganismo: Rectorado de la Universidad de Cádiz\\n\\nVer en Contratero: https://contratero.es/contracts/EXP013/2026/19
URL:https://contratero.es/contracts/EXP013/2026/19
STATUS:CONFIRMED
BEGIN:VALARM
TRIGGER:-P1D
ACTION:DISPLAY
DESCRIPTION:Recordatorio: Contratación administrativa de
END:VALARM
END:VEVENT
END:VCALENDAR