BEGIN:VCALENDAR
VERSION:2.0
PRODID:-//Contratero//ES
CALSCALE:GREGORIAN
METHOD:PUBLISH
BEGIN:VEVENT
UID:EXP202300007@contratero.es
DTSTAMP:20260423T000411Z
DTSTART:20230914T235959
DTEND:20230915T005959
SUMMARY:Cierre: Suministro de licencias de software DYNAMICS
DESCRIPTION:Suministro de licencias de software DYNAMICS\\n\\nOrganismo: Consejera Delegada de Asistencia Integral Tributaria\, S.A (Asista Canarias)\\n\\nVer en Contratero: https://contratero.es/contracts/EXP202300007
URL:https://contratero.es/contracts/EXP202300007
STATUS:CONFIRMED
BEGIN:VALARM
TRIGGER:-P1D
ACTION:DISPLAY
DESCRIPTION:Recordatorio: Suministro de licencias de sof
END:VALARM
END:VEVENT
END:VCALENDAR