BEGIN:VCALENDAR
VERSION:2.0
PRODID:-//Contratero//ES
CALSCALE:GREGORIAN
METHOD:PUBLISH
BEGIN:VEVENT
UID:EXP202400003@contratero.es
DTSTAMP:20260425T040428Z
DTSTART:20240610T235959
DTEND:20240611T005959
SUMMARY:Cierre: Consultoría\, asistencia técnica y apoyo a la impla
DESCRIPTION:Consultoría\, asistencia técnica y apoyo a la implantación y posterior mantenimiento del CMR de Microsoft Dynamics de ASISTA CANARIAS.\\n\\nOrganismo: Consejera Delegada de Asistencia Integral Tributaria\, S.A (Asista Canarias)\\n\\nVer en Contratero: https://contratero.es/contracts/EXP202400003
URL:https://contratero.es/contracts/EXP202400003
STATUS:CONFIRMED
BEGIN:VALARM
TRIGGER:-P1D
ACTION:DISPLAY
DESCRIPTION:Recordatorio: Consultoría\, asistencia técnic
END:VALARM
END:VEVENT
END:VCALENDAR