BEGIN:VCALENDAR
VERSION:2.0
PRODID:-//Contratero//ES
CALSCALE:GREGORIAN
METHOD:PUBLISH
BEGIN:VEVENT
UID:F-02/20@contratero.es
DTSTAMP:20260425T141639Z
DTSTART:20201203T235959
DTEND:20201204T005959
SUMMARY:Cierre: Prestación de un servicio de infraestructura hardw
DESCRIPTION:Prestación de un servicio de infraestructura hardware y software para el control de presencia y/o ausencia del puesto de trabajo de los empleados de la Federación de Organismos o Entidades de Radio y ...\\n\\nOrganismo: Secretario General de la Federación de Organismos o Entidades de Radio y Televisión Autonómicos - FORTA\\n\\nVer en Contratero: https://contratero.es/contracts/F-02/20
URL:https://contratero.es/contracts/F-02/20
STATUS:CONFIRMED
BEGIN:VALARM
TRIGGER:-P1D
ACTION:DISPLAY
DESCRIPTION:Recordatorio: Prestación de un servicio de i
END:VALARM
END:VEVENT
END:VCALENDAR