BEGIN:VCALENDAR
VERSION:2.0
PRODID:-//Contratero//ES
CALSCALE:GREGORIAN
METHOD:PUBLISH
BEGIN:VEVENT
UID:FECYT/PL2019/015@contratero.es
DTSTAMP:20260425T145847Z
DTSTART:20190923T235959
DTEND:20190924T005959
SUMMARY:Cierre: Servicio de asistencia técnica para la integración
DESCRIPTION:Servicio de asistencia técnica para la integración de colecciones de documentos y desarrollos software en la instancia de la Fundación Española para la Ciencia y la Tecnología F.S.P. (FECYT) en la pla...\\n\\nOrganismo: Fundación Española para la Ciencia y la Tecnología\\n\\nVer en Contratero: https://contratero.es/contracts/FECYT/PL2019/015
URL:https://contratero.es/contracts/FECYT/PL2019/015
STATUS:CONFIRMED
BEGIN:VALARM
TRIGGER:-P1D
ACTION:DISPLAY
DESCRIPTION:Recordatorio: Servicio de asistencia técnica
END:VALARM
END:VEVENT
END:VCALENDAR