BEGIN:VCALENDAR
VERSION:2.0
PRODID:-//Contratero//ES
CALSCALE:GREGORIAN
METHOD:PUBLISH
BEGIN:VEVENT
UID:FUCAS/20/2025@contratero.es
DTSTAMP:20260422T184329Z
DTSTART:20260108T235959
DTEND:20260109T005959
SUMMARY:Cierre: Suministro y mantenimiento y soporte aplicativo pa
DESCRIPTION:Suministro y mantenimiento y soporte aplicativo para la gestión integral del personal de la Fundación Tutelar Canaria para la Acción Social\, M.P.\\n\\nOrganismo: Gerencia de la Fundación Tutelar Canaria para la Acción Social\, M.P. (FuCAS)\\n\\nVer en Contratero: https://contratero.es/contracts/FUCAS/20/2025
URL:https://contratero.es/contracts/FUCAS/20/2025
STATUS:CONFIRMED
BEGIN:VALARM
TRIGGER:-P1D
ACTION:DISPLAY
DESCRIPTION:Recordatorio: Suministro y mantenimiento y s
END:VALARM
END:VEVENT
END:VCALENDAR