BEGIN:VCALENDAR
VERSION:2.0
PRODID:-//Contratero//ES
CALSCALE:GREGORIAN
METHOD:PUBLISH
BEGIN:VEVENT
UID:G-2020/07-0048@contratero.es
DTSTAMP:20260423T020016Z
DTSTART:20201104T235959
DTEND:20201105T005959
SUMMARY:Cierre: Servicios de gestión técnica de exámenes\, digitali
DESCRIPTION:Servicios de gestión técnica de exámenes\, digitalización\, procesado y soporte a la calificación para el Sistema de Evaluación y Certificación del Instituto Cervantes.\\n\\nOrganismo: Dirección del Instituto Cervantes\\n\\nVer en Contratero: https://contratero.es/contracts/G-2020/07-0048
URL:https://contratero.es/contracts/G-2020/07-0048
STATUS:CONFIRMED
BEGIN:VALARM
TRIGGER:-P1D
ACTION:DISPLAY
DESCRIPTION:Recordatorio: Servicios de gestión técnica d
END:VALARM
END:VEVENT
END:VCALENDAR